BEGIN:VCALENDAR
VERSION:2.0
PRODID:-//Alumni San José SS.CC. - ECPv6.15.15//NONSGML v1.0//EN
CALSCALE:GREGORIAN
METHOD:PUBLISH
X-WR-CALNAME:Alumni San José SS.CC.
X-ORIGINAL-URL:https://alumnisanjosesscc.com
X-WR-CALDESC:Eventos para Alumni San José SS.CC.
REFRESH-INTERVAL;VALUE=DURATION:PT1H
X-Robots-Tag:noindex
X-PUBLISHED-TTL:PT1H
BEGIN:VTIMEZONE
TZID:Europe/Madrid
BEGIN:DAYLIGHT
TZOFFSETFROM:+0100
TZOFFSETTO:+0200
TZNAME:CEST
DTSTART:20180325T010000
END:DAYLIGHT
BEGIN:STANDARD
TZOFFSETFROM:+0200
TZOFFSETTO:+0100
TZNAME:CET
DTSTART:20181028T010000
END:STANDARD
BEGIN:DAYLIGHT
TZOFFSETFROM:+0100
TZOFFSETTO:+0200
TZNAME:CEST
DTSTART:20190331T010000
END:DAYLIGHT
BEGIN:STANDARD
TZOFFSETFROM:+0200
TZOFFSETTO:+0100
TZNAME:CET
DTSTART:20191027T010000
END:STANDARD
BEGIN:DAYLIGHT
TZOFFSETFROM:+0100
TZOFFSETTO:+0200
TZNAME:CEST
DTSTART:20200329T010000
END:DAYLIGHT
BEGIN:STANDARD
TZOFFSETFROM:+0200
TZOFFSETTO:+0100
TZNAME:CET
DTSTART:20201025T010000
END:STANDARD
END:VTIMEZONE
BEGIN:VEVENT
DTSTART;TZID=Europe/Madrid:20191208T110000
DTEND;TZID=Europe/Madrid:20191208T140000
DTSTAMP:20260420T102223
CREATED:20191122T040558Z
LAST-MODIFIED:20191122T040558Z
UID:1322-1575802800-1575813600@alumnisanjosesscc.com
SUMMARY:PROCESIÓN DE LA VIRGEN INMACULADA
DESCRIPTION:Este año\, con motivo del décimo aniversario de la canonización del padre Damián\, se hará una procesión extraordinaria en la que también veremos por las calles del barrio de Los Remedios la imagen del padre Damián procesionando. La comunidad educativa del colegio invita este año a todos los antiguos alumnos a participar en la procesión. \nQuienes deseen participar en la Procesión de la Inmaculada deben sacar previamente su papeleta de sitio. Las papeletas pueden adquirirse a partir del 18 de noviembre\, y en horario de lunes a viernes de 17:30h a 19:00h\, en la secretaría de la ACPA. También podrán adquirirse en el despacho parroquial dentro de su horario de atención al público y los próximos domingos a la salida de las eucaristías de 12:30h y 20:30h\, en la puerta de la parroquia del colegio.
URL:https://alumnisanjosesscc.com/event/procesion-de-la-virgen-inmaculada/
END:VEVENT
BEGIN:VEVENT
DTSTART;TZID=Europe/Madrid:20191205T210000
DTEND;TZID=Europe/Madrid:20191205T230000
DTSTAMP:20260420T102223
CREATED:20191122T040325Z
LAST-MODIFIED:20191122T040325Z
UID:1319-1575579600-1575586800@alumnisanjosesscc.com
SUMMARY:ENCUENTRO DE ANTIGUOS ALUMNOS
DESCRIPTION:ENCUENTRO DE ANTIGUOS ALUMNOS. Un rato para reencontrarnos y revivir momentos pasados y presentes tomándonos algo en el bar dispuesto para las fiestas.
URL:https://alumnisanjosesscc.com/event/encuentro-de-antiguos-alumnos/
LOCATION:Patio de las columnas
END:VEVENT
BEGIN:VEVENT
DTSTART;TZID=Europe/Madrid:20191205T203000
DTEND;TZID=Europe/Madrid:20191205T210000
DTSTAMP:20260420T102223
CREATED:20191122T040221Z
LAST-MODIFIED:20191122T040221Z
UID:1317-1575577800-1575579600@alumnisanjosesscc.com
SUMMARY:ORACIÓN ANTE MARÍA INMACULADA
DESCRIPTION:“ORACIÓN ANTE MARÍA INMACULADA”\, a cargo de nuestro compañero y antiguo alumno Francisco José Vázquez Perea (generación de 1962). Será un breve acto lleno de emoción\, recuerdos y vivencias en torno a la imagen de María. Os invitamos a acompañarle\, pues seguro que a él le encantará sentirse arropado por sus compañeros y amigos.
URL:https://alumnisanjosesscc.com/event/oracion-ante-maria-inmaculada/
LOCATION:Parroquia – Colegio San José SSCC\, Calle Juan Ramón Jiménez\, 22\,\, Sevilla\, Sevilla\, 41011\, España
END:VEVENT
BEGIN:VEVENT
DTSTART;TZID=Europe/Madrid:20191205T190000
DTEND;TZID=Europe/Madrid:20191205T190000
DTSTAMP:20260420T102223
CREATED:20191122T040059Z
LAST-MODIFIED:20191122T040059Z
UID:1314-1575572400-1575572400@alumnisanjosesscc.com
SUMMARY:INAUGURACIÓN DE LOS NUEVOS ESPACIOS EXPOSITIVOS PERMANENTES
DESCRIPTION:INAUGURACIÓN DE LOS NUEVOS ESPACIOS EXPOSITIVOS PERMANENTES del colegio sobre la Escuela de Teatro y sobre la historia de la vida colegial y deportiva. La exposición cuenta con dos espacios en hall y hall planta 1. Durante el acto se proyectará un documental sobre el Colegio “Yo soy SSCC”. De especial interés a todos los antiguos alumnos que quieran recordar su paso por la escuela de teatro.
URL:https://alumnisanjosesscc.com/event/inauguracion-de-los-nuevos-espacios-expositivos-permanentes/
LOCATION:Salón de Actos del colegio
END:VEVENT
BEGIN:VEVENT
DTSTART;VALUE=DATE:20191116
DTEND;VALUE=DATE:20191117
DTSTAMP:20260420T102223
CREATED:20191107T191432Z
LAST-MODIFIED:20191108T093605Z
UID:1278-1573862400-1573948799@alumnisanjosesscc.com
SUMMARY:25 Años de la salida del Colegio - Generación 1976
DESCRIPTION:Si eres de la Generación de 1976\, el próximo sábado 16 de noviembre tienes una cita con tus antiguos compañeros del colegio. \nEste año se cumplen las “Bodas de Plata” de la salida del colegio San José SS.CC. de los nacidos en 1976 y por ese motivo los antiguos alumnos de dicha generación han organizado un encuentro. \nAl evento están invitados los nacidos dicho año que hayan estudiado algún curso en el colegio San José SS.CC.\, pero también aquellos repetidores que hayan compartido años de estudios con los compañeros de la generación de 1976. \nLa idea es volver a reencontrarse con compañeros de EGB\, BUP y COU\, rememorar anécdotas colegiales\, saber qué ha sido de cada uno tras salir del colegio y\, fundamentalmente\, pasar un buen rato disfrutando de la compañía de “amigos del cole”. \nEl evento comenzará con un pequeño acto de “Acción de gracias” en la capilla del colegio\, seguido de un recorrido por las nuevas instalaciones del centro para\, finalmente\, disfrutar de una comida en el restaurante El Principico (Calle Virgen de la Oliva\, s/n\, Parque de los Príncipes). \nSi estás interesado en asistir\, es imprescindible que confirmes antes del martes 12 de noviembre. \n¡No te lo puedes perder! \nSe ruega difusión entre los compañeros de la promoción. \n\n\nREUNIÓN ANTIGUOS ALUMNOS GENERACIÓN 1976\nCuenta: ES24 2100 1706 0802 0046 3796\nImporte menú: 33 €\nBeneficiario: Asociación Antiguos Alumnos SS.CC.\nConcepto: «#25de76» – Nombre y apellidos\nEnviar justificante de transferencia o ingreso al correo: 25de76@alumnisanjosesscc.com\nFecha límite de confirmación y pago: Martes\, 12 de noviembre
URL:https://alumnisanjosesscc.com/event/25-anos-de-la-salida-del-colegio-generacion-1976/
LOCATION:Parroquia – Colegio San José SSCC\, Calle Juan Ramón Jiménez\, 22\,\, Sevilla\, Sevilla\, 41011\, España
ATTACH;FMTTYPE=image/jpeg:https://alumnisanjosesscc.com/aasc/wp-content/uploads/2019/11/WhatsApp-Image-2019-11-08-at-01.23.31.jpeg
ORGANIZER;CN="":MAILTO:25de76@alumnisanjosesscc.com
END:VEVENT
END:VCALENDAR